BEGIN:VCALENDAR
VERSION:2.0
PRODID:-//ChamberMaster//Event Calendar 2.0//EN
METHOD:PUBLISH
X-PUBLISHED-TTL:P3D
REFRESH-INTERVAL:P3D
CALSCALE:GREGORIAN
BEGIN:VEVENT
DTSTART:20120104T133000Z
DTEND:20120104T143000Z
X-MICROSOFT-CDO-ALLDAYEVENT:FALSE
SUMMARY:Member Promotion Meeting
DESCRIPTION:Member Promotion Meeting
X-ALT-DESC;FMTTYPE=text/html:<div>\n	Member Promotion Meeting</div>\n
LOCATION:Chamber Office
UID:e.112.5413
SEQUENCE:3
DTSTAMP:20260420T114333Z
URL:http://www.business.pekinchamber.com/events/details/member-promotion-meeting-01-04-2012-5413
END:VEVENT

END:VCALENDAR
