BEGIN:VCALENDAR
VERSION:2.0
PRODID:-//ChamberMaster//Event Calendar 2.0//EN
METHOD:PUBLISH
X-PUBLISHED-TTL:P3D
REFRESH-INTERVAL:P3D
CALSCALE:GREGORIAN
BEGIN:VEVENT
DTSTART:20071129T230000Z
DTEND:20071130T010000Z
X-MICROSOFT-CDO-ALLDAYEVENT:FALSE
SUMMARY:Meet the Candidates
DESCRIPTION:The Pekin Area Chamber of Commerce invites you to Meet the Candidates.  This is your opportunity to meet and hear from the candidates for the 18th Congressional seat.  Jim McConoughey\, John Morris\, Aaron Schock\, and Dick Versace have all been invited.  Light Hors d'oeurves will be served.  The first hour will allow time for everyone to socialize and meet the candidates.  At 6:00pm the candidates will each be introduced and given a few minutes at the microphone.  The evening will conclude with additional time for informal socializing.
X-ALT-DESC;FMTTYPE=text/html:<div>The Pekin Area Chamber of Commerce invites you to Meet the Candidates. &nbsp\;This is your opportunity to meet and hear from the candidates for the 18th Congressional seat.&nbsp\; Jim McConoughey\, John Morris\, Aaron Schock\, and Dick Versace have all been invited.&nbsp\; Light Hors d&rsquo\;oeurves will be served.&nbsp\; The first hour will allow time for everyone to socialize and meet the candidates.&nbsp\; At 6:00pm the candidates will each be introduced and given a few minutes at the microphone.&nbsp\; The evening will&nbsp\;conclude with additional time for informal socializing.</div>
LOCATION:Pekin Moose Family Center2605 Broadway Road
UID:e.112.2684
SEQUENCE:3
DTSTAMP:20260424T211338Z
URL:http://www.business.pekinchamber.com/events/details/meet-the-candidates-11-29-2007-2684
END:VEVENT

END:VCALENDAR
