BEGIN:VCALENDAR
VERSION:2.0
PRODID:-//ChamberMaster//Event Calendar 2.0//EN
METHOD:PUBLISH
X-PUBLISHED-TTL:P3D
REFRESH-INTERVAL:P3D
CALSCALE:GREGORIAN
BEGIN:VEVENT
DTSTART;VALUE=DATE:20110117
DTEND;VALUE=DATE:20110118
TRANSP:TRANSPARENT
X-MICROSOFT-CDO-ALLDAYEVENT:TRUE
SUMMARY:Martin Luther King Day
DESCRIPTION:Chamber office closed
X-ALT-DESC;FMTTYPE=text/html:Chamber office closed
LOCATION:
UID:e.112.5136
SEQUENCE:3
DTSTAMP:20260422T100231Z
URL:http://www.business.pekinchamber.com/events/details/martin-luther-king-day-01-17-2011-5136
END:VEVENT

END:VCALENDAR
