BEGIN:VCALENDAR
VERSION:2.0
PRODID:-//ChamberMaster//Event Calendar 2.0//EN
METHOD:PUBLISH
X-PUBLISHED-TTL:P3D
REFRESH-INTERVAL:P3D
CALSCALE:GREGORIAN
BEGIN:VEVENT
DTSTART:20080117T133000Z
DTEND:20080117T143000Z
X-MICROSOFT-CDO-ALLDAYEVENT:FALSE
SUMMARY:Marketing Division
DESCRIPTION:Marketing Division
X-ALT-DESC;FMTTYPE=text/html:<div>Marketing Division</div>
LOCATION:Pekin Public Schools District 108 Board Room
UID:e.112.3015
SEQUENCE:3
DTSTAMP:20260424T175909Z
URL:http://www.business.pekinchamber.com/events/details/marketing-division-01-17-2008-3015
END:VEVENT

END:VCALENDAR
