BEGIN:VCALENDAR
VERSION:2.0
PRODID:-//ChamberMaster//Event Calendar 2.0//EN
METHOD:PUBLISH
X-PUBLISHED-TTL:P3D
REFRESH-INTERVAL:P3D
CALSCALE:GREGORIAN
BEGIN:VEVENT
DTSTART:20101027T123000Z
DTEND:20101027T133000Z
X-MICROSOFT-CDO-ALLDAYEVENT:FALSE
SUMMARY:Marketing Committee
DESCRIPTION:Quarterly meeting of the Chamber's marketing committee.
X-ALT-DESC;FMTTYPE=text/html:Quarterly meeting of the Chamber&#39\;s marketing committee. 
LOCATION:Will meet at CenturyLink in downtown Pekin 416 Margaret Since we'll be there "before hours" please use the door in the alley. The conference room is inside and immediately to the left. You might be able to park in the gravel lot just past the building\, or park on Court Street and cut through the small parks to the alley entrance.
UID:e.112.4926
SEQUENCE:3
DTSTAMP:20260422T142737Z
URL:http://www.business.pekinchamber.com/events/details/marketing-committee-10-27-2010-4926
END:VEVENT

END:VCALENDAR
