BEGIN:VCALENDAR
VERSION:2.0
PRODID:-//ChamberMaster//Event Calendar 2.0//EN
METHOD:PUBLISH
X-PUBLISHED-TTL:P3D
REFRESH-INTERVAL:P3D
CALSCALE:GREGORIAN
BEGIN:VEVENT
DTSTART:20111105T230000Z
DTEND:20111106T020000Z
X-MICROSOFT-CDO-ALLDAYEVENT:FALSE
SUMMARY:Marigold Wrap up Party
DESCRIPTION:
X-ALT-DESC;FMTTYPE=text/html:
LOCATION:Pekin Insurance Lodge
UID:e.112.5388
SEQUENCE:3
DTSTAMP:20260421T181430Z
URL:http://www.business.pekinchamber.com/events/details/marigold-wrap-up-party-11-05-2011-5388
END:VEVENT

END:VCALENDAR
