BEGIN:VCALENDAR
VERSION:2.0
PRODID:-//ChamberMaster//Event Calendar 2.0//EN
METHOD:PUBLISH
X-PUBLISHED-TTL:P3D
REFRESH-INTERVAL:P3D
CALSCALE:GREGORIAN
BEGIN:VEVENT
DTSTART:20110907T233000Z
DTEND:20110908T003000Z
X-MICROSOFT-CDO-ALLDAYEVENT:FALSE
SUMMARY:Marigold Meeting
DESCRIPTION:Marigold Meeting
X-ALT-DESC;FMTTYPE=text/html:<div>Marigold Meeting</div>
LOCATION:Pavillion
UID:e.112.5374
SEQUENCE:3
DTSTAMP:20260421T213017Z
URL:http://www.business.pekinchamber.com/events/details/marigold-meeting-09-07-2011-5374
END:VEVENT

END:VCALENDAR
