BEGIN:VCALENDAR
VERSION:2.0
PRODID:-//ChamberMaster//Event Calendar 2.0//EN
METHOD:PUBLISH
X-PUBLISHED-TTL:P3D
REFRESH-INTERVAL:P3D
CALSCALE:GREGORIAN
BEGIN:VEVENT
DTSTART:20080820T233000Z
DTEND:20080821T010000Z
X-MICROSOFT-CDO-ALLDAYEVENT:FALSE
SUMMARY:Marigold Meeting
DESCRIPTION:Marigold Meeting
X-ALT-DESC;FMTTYPE=text/html:<div>Marigold Meeting</div>
LOCATION:Holiday Inn Express
UID:e.112.3072
SEQUENCE:3
DTSTAMP:20260424T051030Z
URL:http://www.business.pekinchamber.com/events/details/marigold-meeting-08-20-2008-3072
END:VEVENT

END:VCALENDAR
