BEGIN:VCALENDAR
VERSION:2.0
PRODID:-//ChamberMaster//Event Calendar 2.0//EN
METHOD:PUBLISH
X-PUBLISHED-TTL:P3D
REFRESH-INTERVAL:P3D
CALSCALE:GREGORIAN
BEGIN:VEVENT
DTSTART:20080618T233000Z
DTEND:20080619T010000Z
X-MICROSOFT-CDO-ALLDAYEVENT:FALSE
SUMMARY:Marigold Meeting
DESCRIPTION:Marigold Meeting
X-ALT-DESC;FMTTYPE=text/html:<div>Marigold Meeting</div>
LOCATION:Holiday Inn Express
UID:e.112.3069
SEQUENCE:3
DTSTAMP:20260424T075025Z
URL:http://www.business.pekinchamber.com/events/details/marigold-meeting-06-18-2008-3069
END:VEVENT

END:VCALENDAR
