BEGIN:VCALENDAR
VERSION:2.0
PRODID:-//ChamberMaster//Event Calendar 2.0//EN
METHOD:PUBLISH
X-PUBLISHED-TTL:P3D
REFRESH-INTERVAL:P3D
CALSCALE:GREGORIAN
BEGIN:VEVENT
DTSTART:20080116T233000Z
DTEND:20080117T010000Z
X-MICROSOFT-CDO-ALLDAYEVENT:FALSE
SUMMARY:Marigold Meeting
DESCRIPTION:Marigold Meeting
X-ALT-DESC;FMTTYPE=text/html:<div>Marigold Meeting</div>
LOCATION:Holiday Inn Express
UID:e.112.3054
SEQUENCE:3
DTSTAMP:20260424T175239Z
URL:http://www.business.pekinchamber.com/events/details/marigold-meeting-01-16-2008-3054
END:VEVENT

END:VCALENDAR
