BEGIN:VCALENDAR
VERSION:2.0
PRODID:-//ChamberMaster//Event Calendar 2.0//EN
METHOD:PUBLISH
X-PUBLISHED-TTL:P3D
REFRESH-INTERVAL:P3D
CALSCALE:GREGORIAN
BEGIN:VEVENT
DTSTART:20070815T123000Z
DTEND:20070815T133000Z
X-MICROSOFT-CDO-ALLDAYEVENT:FALSE
SUMMARY:Marigold Golf Committee
DESCRIPTION:Committee meeting
X-ALT-DESC;FMTTYPE=text/html:<div>Committee meeting</div>
LOCATION:Pekin Area Chamber of Commerce402 Court StreetPekin\, IL 61554 346-2106
UID:e.112.2672
SEQUENCE:3
DTSTAMP:20260425T020116Z
URL:http://www.business.pekinchamber.com/events/details/marigold-golf-committee-08-15-2007-2672
END:VEVENT

END:VCALENDAR
