BEGIN:VCALENDAR
VERSION:2.0
PRODID:-//ChamberMaster//Event Calendar 2.0//EN
METHOD:PUBLISH
X-PUBLISHED-TTL:P3D
REFRESH-INTERVAL:P3D
CALSCALE:GREGORIAN
BEGIN:VEVENT
DTSTART:20110909T220000Z
DTEND:20110910T030000Z
X-MICROSOFT-CDO-ALLDAYEVENT:FALSE
SUMMARY:Marigold Festval Friday Night Family Fest
DESCRIPTION:Pekin Marigold Festival Friday Night Family Fest
X-ALT-DESC;FMTTYPE=text/html:<div>Pekin Marigold Festival Friday Night Family Fest</div>
LOCATION:Downtown Pekin surrounding Courthouse
UID:e.112.4554
SEQUENCE:3
DTSTAMP:20260421T213301Z
URL:http://www.business.pekinchamber.com/events/details/marigold-festval-friday-night-family-fest-09-09-2011-4554
END:VEVENT

END:VCALENDAR
