BEGIN:VCALENDAR
VERSION:2.0
PRODID:-//ChamberMaster//Event Calendar 2.0//EN
METHOD:PUBLISH
X-PUBLISHED-TTL:P3D
REFRESH-INTERVAL:P3D
CALSCALE:GREGORIAN
BEGIN:VEVENT
DTSTART;VALUE=DATE:20070825
DTEND;VALUE=DATE:20070826
TRANSP:TRANSPARENT
X-MICROSOFT-CDO-ALLDAYEVENT:TRUE
SUMMARY:Marigold Festival Inaugural Women's Golf Outing
DESCRIPTION:Marigold Festival Inaugural Women's Golf OutingTwo-woman ScrambleNumber of flights will be determined by number of entries received
X-ALT-DESC;FMTTYPE=text/html:<p>Marigold Festival Inaugural Women&rsquo\;s Golf Outing</p><p>Two-woman Scramble</p><p>Number of flights will be determined by number of entries received</p>
LOCATION:Parkview Golf Course
UID:e.112.2644
SEQUENCE:3
DTSTAMP:20260425T020415Z
URL:http://www.business.pekinchamber.com/events/details/marigold-festival-inaugural-women-s-golf-outing-08-25-2007-2644
END:VEVENT

END:VCALENDAR
