BEGIN:VCALENDAR
VERSION:2.0
PRODID:-//ChamberMaster//Event Calendar 2.0//EN
METHOD:PUBLISH
X-PUBLISHED-TTL:P3D
REFRESH-INTERVAL:P3D
CALSCALE:GREGORIAN
BEGIN:VEVENT
DTSTART:20110908T223000Z
DTEND:20110909T023000Z
X-MICROSOFT-CDO-ALLDAYEVENT:FALSE
SUMMARY:Marigold Festival Carnival Bracelet Night
DESCRIPTION:Thursday is Bracelet Night\n\n$15 per person\n\n5:30 to 9:30 pm
X-ALT-DESC;FMTTYPE=text/html:Thursday is Bracelet Night<br />\n$15 per person<br />\n5:30 to 9:30 pm
LOCATION:
UID:e.112.5381
SEQUENCE:3
DTSTAMP:20260421T213217Z
URL:http://www.business.pekinchamber.com/events/details/marigold-festival-carnival-bracelet-night-09-08-2011-5381
END:VEVENT

END:VCALENDAR
