BEGIN:VCALENDAR
VERSION:2.0
PRODID:-//ChamberMaster//Event Calendar 2.0//EN
METHOD:PUBLISH
X-PUBLISHED-TTL:P3D
REFRESH-INTERVAL:P3D
CALSCALE:GREGORIAN
BEGIN:VEVENT
DTSTART:20080904T223000Z
DTEND:20080905T023000Z
X-MICROSOFT-CDO-ALLDAYEVENT:FALSE
SUMMARY:Marigold Festival Carnival Bracelet Night
DESCRIPTION:Bracelet night for carnival\;  ride all rides as many times as you want for one flat fee.
X-ALT-DESC;FMTTYPE=text/html:<div>Bracelet night for carnival\;&nbsp\; ride all rides as many times as you want for one flat fee.</div>
LOCATION:Off Red Bud drive behind Parkside Athletics and beside the 4H barns
UID:e.112.3220
SEQUENCE:3
DTSTAMP:20260424T035124Z
URL:http://www.business.pekinchamber.com/events/details/marigold-festival-carnival-bracelet-night-09-04-2008-3220
END:VEVENT

END:VCALENDAR
