BEGIN:VCALENDAR
VERSION:2.0
PRODID:-//ChamberMaster//Event Calendar 2.0//EN
METHOD:PUBLISH
X-PUBLISHED-TTL:P3D
REFRESH-INTERVAL:P3D
CALSCALE:GREGORIAN
BEGIN:VEVENT
DTSTART:20100911T140000Z
DTEND:20100911T230000Z
X-MICROSOFT-CDO-ALLDAYEVENT:FALSE
SUMMARY:Marigold Festival
DESCRIPTION:Pekin Marigold Festival Weekend
X-ALT-DESC;FMTTYPE=text/html:<div>Pekin Marigold Festival Weekend</div>
LOCATION:Mineral Springs Park
UID:e.112.4555
SEQUENCE:3
DTSTAMP:20260422T160045Z
URL:http://www.business.pekinchamber.com/events/details/marigold-festival-09-11-2010-4555
END:VEVENT

END:VCALENDAR
