BEGIN:VCALENDAR
VERSION:2.0
PRODID:-//ChamberMaster//Event Calendar 2.0//EN
METHOD:PUBLISH
X-PUBLISHED-TTL:P3D
REFRESH-INTERVAL:P3D
CALSCALE:GREGORIAN
BEGIN:VEVENT
DTSTART;VALUE=DATE:20091107
DTEND;VALUE=DATE:20091108
TRANSP:TRANSPARENT
X-MICROSOFT-CDO-ALLDAYEVENT:TRUE
SUMMARY:Marigold Committee Wrap up Party
DESCRIPTION:Marigold Committee Wrap-up Party
X-ALT-DESC;FMTTYPE=text/html:<div>Marigold Committee Wrap-up Party</div>
LOCATION:TBA
UID:e.112.3355
SEQUENCE:3
DTSTAMP:20260423T070838Z
URL:http://www.business.pekinchamber.com/events/details/marigold-committee-wrap-up-party-11-07-2009-3355
END:VEVENT

END:VCALENDAR
