BEGIN:VCALENDAR
VERSION:2.0
PRODID:-//ChamberMaster//Event Calendar 2.0//EN
METHOD:PUBLISH
X-PUBLISHED-TTL:P3D
REFRESH-INTERVAL:P3D
CALSCALE:GREGORIAN
BEGIN:VEVENT
DTSTART:20091021T233000Z
DTEND:20091022T010000Z
X-MICROSOFT-CDO-ALLDAYEVENT:FALSE
SUMMARY:Marigold Committee Meeting
DESCRIPTION:Marigold Committe Meeting
X-ALT-DESC;FMTTYPE=text/html:<div>Marigold Committe Meeting</div>
LOCATION:Holiday Inn Express
UID:e.112.3354
SEQUENCE:3
DTSTAMP:20260423T083650Z
URL:http://www.business.pekinchamber.com/events/details/marigold-committee-meeting-10-21-2009-3354
END:VEVENT

END:VCALENDAR
