BEGIN:VCALENDAR
VERSION:2.0
PRODID:-//ChamberMaster//Event Calendar 2.0//EN
METHOD:PUBLISH
X-PUBLISHED-TTL:P3D
REFRESH-INTERVAL:P3D
CALSCALE:GREGORIAN
BEGIN:VEVENT
DTSTART:20110824T233000Z
DTEND:20110825T010000Z
X-MICROSOFT-CDO-ALLDAYEVENT:FALSE
SUMMARY:Marigold Committee Meeting
DESCRIPTION:Marigold Committee Meeting
X-ALT-DESC;FMTTYPE=text/html:<div>\n	Marigold Committee Meeting</div>\n
LOCATION:Holiday Inn Express
UID:e.112.5375
SEQUENCE:3
DTSTAMP:20260421T224930Z
URL:http://www.business.pekinchamber.com/events/details/marigold-committee-meeting-08-24-2011-5375
END:VEVENT

END:VCALENDAR
