BEGIN:VCALENDAR
VERSION:2.0
PRODID:-//ChamberMaster//Event Calendar 2.0//EN
METHOD:PUBLISH
X-PUBLISHED-TTL:P3D
REFRESH-INTERVAL:P3D
CALSCALE:GREGORIAN
BEGIN:VEVENT
DTSTART:20090819T233000Z
DTEND:20090819T170000Z
X-MICROSOFT-CDO-ALLDAYEVENT:FALSE
SUMMARY:Marigold Committee Meeting
DESCRIPTION:Marigold Committee Meeting
X-ALT-DESC;FMTTYPE=text/html:<div>Marigold Committee Meeting</div>
LOCATION:Holiday Inn Express
UID:e.112.3348
SEQUENCE:3
DTSTAMP:20260423T113701Z
URL:http://www.business.pekinchamber.com/events/details/marigold-committee-meeting-08-19-2009-3348
END:VEVENT

END:VCALENDAR
