BEGIN:VCALENDAR
VERSION:2.0
PRODID:-//ChamberMaster//Event Calendar 2.0//EN
METHOD:PUBLISH
X-PUBLISHED-TTL:P3D
REFRESH-INTERVAL:P3D
CALSCALE:GREGORIAN
BEGIN:VEVENT
DTSTART:20100707T233000Z
DTEND:20100708T010000Z
X-MICROSOFT-CDO-ALLDAYEVENT:FALSE
SUMMARY:Marigold Committee Meeting
DESCRIPTION:Marigold Committee Meeting
X-ALT-DESC;FMTTYPE=text/html:<div>Marigold Committee Meeting</div>
LOCATION:Pekin Public Library unless otherwise noted
UID:e.112.4550
SEQUENCE:3
DTSTAMP:20260422T185757Z
URL:http://www.business.pekinchamber.com/events/details/marigold-committee-meeting-07-07-2010-4550
END:VEVENT

END:VCALENDAR
