BEGIN:VCALENDAR
VERSION:2.0
PRODID:-//ChamberMaster//Event Calendar 2.0//EN
METHOD:PUBLISH
X-PUBLISHED-TTL:P3D
REFRESH-INTERVAL:P3D
CALSCALE:GREGORIAN
BEGIN:VEVENT
DTSTART:20100120T233000Z
DTEND:20100121T013000Z
X-MICROSOFT-CDO-ALLDAYEVENT:FALSE
SUMMARY:Marigold Committee Meeting
DESCRIPTION:Marigold Committee Meeting
X-ALT-DESC;FMTTYPE=text/html:<div>Marigold Committee Meeting</div>
LOCATION:All meetings will be held at the Pekin Public Library unless otherwise noted.
UID:e.112.4544
SEQUENCE:3
DTSTAMP:20260423T040830Z
URL:http://www.business.pekinchamber.com/events/details/marigold-committee-meeting-01-20-2010-4544
END:VEVENT

END:VCALENDAR
