BEGIN:VCALENDAR
VERSION:2.0
PRODID:-//ChamberMaster//Event Calendar 2.0//EN
METHOD:PUBLISH
X-PUBLISHED-TTL:P3D
REFRESH-INTERVAL:P3D
CALSCALE:GREGORIAN
BEGIN:VEVENT
DTSTART:20070822T163000Z
DTEND:20070822T180000Z
X-MICROSOFT-CDO-ALLDAYEVENT:FALSE
SUMMARY:Managing Workplace Conflict: The Good\, the Bad & the Ugly
DESCRIPTION:A "Lunch 'n Learn" workshop presented by Cindy Byrd\, President/CEO\, Image Potential Training and Consulting.Conflict is an inevitable part of working with others.  Left unmanaged int he workplace\, it can be harmful and destructive.  Properly managed\, however\, conflict can actually help employees and organizations be more creative\, innovative\, and productive.Manager\, supervisors\, and business owners are invited to learn and discuss these six simple strategies to reduce negative workplace conflict while encouraging healthy\, functional conflict:1.  Recognize "hot button" issues\n2.  Encourage perceptive communication techniques\n3.  Describe organizational values in actionable terms\n4.  Create standards of conduct\n5.  Communicate priorities and responsibilities\n6.  Provide learning opportunities
X-ALT-DESC;FMTTYPE=text/html:<p>A &quot\;Lunch 'n Learn&quot\; workshop presented by Cindy Byrd\, President/CEO\, Image Potential Training and Consulting.</p><p>Conflict is an inevitable part of working with others.&nbsp\; Left unmanaged int he workplace\, it can be harmful and destructive.&nbsp\; Properly managed\, however\, conflict can actually help employees and organizations be more creative\, innovative\, and productive.</p><p>Manager\, supervisors\, and business owners are invited to learn and discuss these six simple strategies to reduce negative workplace conflict while encouraging healthy\, functional conflict:</p><p>1.&nbsp\; Recognize &quot\;hot button&quot\; issues<br />2.&nbsp\; Encourage perceptive communication techniques<br />3.&nbsp\; Describe organizational values in actionable terms<br />4.&nbsp\; Create standards of conduct<br />5.&nbsp\; Communicate priorities and responsibilities<br />6.&nbsp\; Provide learning opportunities</p>
LOCATION:Illinois Department of Employment Security 200 S. 2nd Street Entrance is on the lower level (3rd Street) side of the building.
UID:e.112.118
SEQUENCE:3
DTSTAMP:20260425T020335Z
URL:http://www.business.pekinchamber.com/events/details/managing-workplace-conflict-the-good-the-bad-the-ugly-08-22-2007-118
END:VEVENT

END:VCALENDAR
