BEGIN:VCALENDAR
VERSION:2.0
PRODID:-//ChamberMaster//Event Calendar 2.0//EN
METHOD:PUBLISH
X-PUBLISHED-TTL:P3D
REFRESH-INTERVAL:P3D
CALSCALE:GREGORIAN
BEGIN:VEVENT
DTSTART:20070913T163000Z
DTEND:20070913T180000Z
X-MICROSOFT-CDO-ALLDAYEVENT:FALSE
SUMMARY:Lunch 'n Learn - Don't Bug Me
DESCRIPTION:"Don't Bug Me"presented by theTazewell County Health Department Concerned about employee health and viruses in the workplace? This program is a 'must see' for preparing for the winter flu season.  Please RSVP to the Chamber (346-2106 or chamber@pekin.net) by September 11th. Pekin Public Library$10 Chamber Members ($15 Non-Members)Thursday\, September 13\, 2007 ~ 11:30am 1:00pm
X-ALT-DESC;FMTTYPE=text/html:<div><strong><font face="Georgia" color="#000000" size="4"><p align="center">&ldquo\;Don&rsquo\;t Bug Me&rdquo\;</p></font><font face="Georgia"><p align="center"><font color="#000000">presented by the</font></p><p align="center"><font color="#000000">Tazewell County Health Department</font></p></font><font face="Georgia" size="3"><p align="justify"><font color="#000000">&nbsp\;Concerned about employee health and viruses in the workplace? This program is a &lsquo\;must see&rsquo\; for preparing for the winter flu season.&nbsp\; Please RSVP to the Chamber (346-2106 or chamber@pekin.net) by September 11th.</font></p><p align="justify">&nbsp\;</p><p align="center"><font color="#000000">Pekin Public Library</font></p><p align="center"><font color="#000000">$10 Chamber Members ($15 Non-Members)</font></p><p align="center"><font color="#000000">Thursday\, September 13\, 2007 ~ 11:30am&mdash\;1:00pm</font></p></font></strong></div><p align="center">&nbsp\;</p>
LOCATION:Pekin Public Library
UID:e.112.2676
SEQUENCE:3
DTSTAMP:20260425T001954Z
URL:http://www.business.pekinchamber.com/events/details/lunch-n-learn-don-t-bug-me-09-13-2007-2676
END:VEVENT

END:VCALENDAR
