BEGIN:VCALENDAR
VERSION:2.0
PRODID:-//ChamberMaster//Event Calendar 2.0//EN
METHOD:PUBLISH
X-PUBLISHED-TTL:P3D
REFRESH-INTERVAL:P3D
CALSCALE:GREGORIAN
BEGIN:VEVENT
DTSTART:20110211T000000Z
DTEND:20110211T010000Z
X-MICROSOFT-CDO-ALLDAYEVENT:FALSE
SUMMARY:Live LASIK Seminar
DESCRIPTION:Now is the time to be thinking about how to use your Tax Refund... why not improve your quality of life with clearer vision? The seminar is FREE\, the Evaluation is FREE\, and attendees can register to win a FREE procedure worth $1997.50. Hope to see you there!
X-ALT-DESC;FMTTYPE=text/html:Now is the time to be thinking about how to use your Tax Refund... why not improve your quality of life with clearer vision? The seminar is FREE\, the Evaluation is FREE\, and attendees can register to win a FREE procedure worth $1997.50. Hope to see you there!\n<br>\n<br>
LOCATION:6800 N Knoxville\, Peoria
UID:e.112.5312
SEQUENCE:3
DTSTAMP:20260422T083741Z
URL:http://www.business.pekinchamber.com/events/details/live-lasik-seminar-02-10-2011-5312
END:VEVENT

END:VCALENDAR
