BEGIN:VCALENDAR
VERSION:2.0
PRODID:-//ChamberMaster//Event Calendar 2.0//EN
METHOD:PUBLISH
X-PUBLISHED-TTL:P3D
REFRESH-INTERVAL:P3D
CALSCALE:GREGORIAN
BEGIN:VEVENT
DTSTART:20080824T190000Z
DTEND:20080824T170000Z
X-MICROSOFT-CDO-ALLDAYEVENT:FALSE
SUMMARY:Little Miss\, Mister and Junior Miss Marigold Pageant
DESCRIPTION:Little Miss\, Mister and Junior Miss PageantOther age divisions :Baby Miss\, Tiny Miss and Petite MissBaby Mister\, Tiny Mister
X-ALT-DESC;FMTTYPE=text/html:<div>Little Miss\, Mister and Junior Miss Pageant</div><div>Other age divisions :</div><div>Baby Miss\, Tiny Miss and Petite Miss</div><div>Baby Mister\, Tiny Mister</div>
LOCATION:Pekin Draon's Dome
UID:e.112.3218
SEQUENCE:3
DTSTAMP:20260424T051359Z
URL:http://www.business.pekinchamber.com/events/details/little-miss-mister-and-junior-miss-marigold-pageant-08-24-2008-3218
END:VEVENT

END:VCALENDAR
