BEGIN:VCALENDAR
VERSION:2.0
PRODID:-//ChamberMaster//Event Calendar 2.0//EN
METHOD:PUBLISH
X-PUBLISHED-TTL:P3D
REFRESH-INTERVAL:P3D
CALSCALE:GREGORIAN
BEGIN:VEVENT
DTSTART;VALUE=DATE:20100313
DTEND;VALUE=DATE:20100314
TRANSP:TRANSPARENT
X-MICROSOFT-CDO-ALLDAYEVENT:TRUE
SUMMARY:Learning to Love to Pray
DESCRIPTION:New Life Christian Church \n401 W. Edgewood Ct. \nMorton\, IL \n(309) 266-9050 \nwww.newlifeonline.org \n\n"Learning to Love to Pray" \nOne-Day Seminar \nDave Butts \nPresident\, Harvest Prayer Ministries \nDave is a much sought after speaker both nationally and internationally. He serves on several Boards of Directors and committees focused on prayer\, revival\, and evangelism. \nHe received a Bachelor of Arts degree from Lincoln Christian College (1975). \nHe also received his Bachelors (1978) and Masters (1982) from Indiana State \nUniversity. He served as Associate Minister at several Terre Haute-area churches. In 1982 he became Senior Minister of Kansas Christian Church in \nKansas\, Illinois. It was there that his passion for prayer and missions began to develop. \nDave has authored numerous articles on prayer and missions for PRAY!\, The \nChristian Standard\, Lookout\, and Horizons magazines. He is the author of a book on prayer as spiritual warfare\, The Devil Goes To Church and Pray Like the King jointly written with his wife\, Kim. He has also completed video-tape presentations on "Leadership For a Praying Church" and "UPFRONT: Training Prayer Teams for Ministry." \nSchedule: \nSaturday\, March 13\, 2010 \n7:45 a.m. Doors Open \n8:00 - 8:30 a.m. Refreshments/Book Table \n8:30 - 10:15 a.m. Session 1 - Dave Butts \n10:15 - 10:30 a.m. Break/Book Table \n10:30 - 12:00 p.m. Session 2 - Dave Butts \n12:00 - 12:45 p.m. Lunch \n12:45 - 2:00 p.m. Session 3 - Dave Butts
X-ALT-DESC;FMTTYPE=text/html:<div>New Life Christian Church <br />401 W. Edgewood Ct. <br />Morton\, IL <br />(309) 266-9050 <br />www.newlifeonline.org <br /><br />&quot\;Learning to Love to Pray&quot\; <br />One-Day Seminar <br />Dave Butts <br />President\, Harvest Prayer Ministries <br />Dave is a much sought after speaker both nationally and internationally. He serves on several Boards of Directors and committees focused on prayer\, revival\, and evangelism. <br />He received a Bachelor of Arts degree from Lincoln Christian College (1975). <br />He also received his Bachelors (1978) and Masters (1982) from Indiana State <br />University. He served as Associate Minister at several Terre Haute-area churches. In 1982 he became Senior Minister of Kansas Christian Church in <br />Kansas\, Illinois. It was there that his passion for prayer and missions began to develop. <br />Dave has authored numerous articles on prayer and missions for PRAY!\, The <br />Christian Standard\, Lookout\, and Horizons magazines. He is the author of a book on prayer as spiritual warfare\, The Devil Goes To Church and Pray Like the King jointly written with his wife\, Kim. He has also completed video-tape presentations on &quot\;Leadership For a Praying Church&quot\; and &quot\;UPFRONT: Training Prayer Teams for Ministry.&quot\; <br />Schedule: <br />Saturday\, March 13\, 2010 <br />7:45 a.m. Doors Open <br />8:00 - 8:30 a.m. Refreshments/Book Table <br />8:30 - 10:15 a.m. Session 1 - Dave Butts <br />10:15 - 10:30 a.m. Break/Book Table <br />10:30 - 12:00 p.m. Session 2 - Dave Butts <br />12:00 - 12:45 p.m. Lunch <br />12:45 - 2:00 p.m. Session 3 - Dave Butts <br />&nbsp\;</div>
LOCATION:New Life Christian Church\, 401 W. Edgewood Ct.\, Morton\, Il 61550
UID:e.112.4866
SEQUENCE:3
DTSTAMP:20260423T011644Z
URL:http://www.business.pekinchamber.com/events/details/learning-to-love-to-pray-03-13-2010-4866
END:VEVENT

END:VCALENDAR
