BEGIN:VCALENDAR
VERSION:2.0
PRODID:-//ChamberMaster//Event Calendar 2.0//EN
METHOD:PUBLISH
X-PUBLISHED-TTL:P3D
REFRESH-INTERVAL:P3D
CALSCALE:GREGORIAN
BEGIN:VEVENT
DTSTART:20091117T213000Z
DTEND:20091117T223000Z
X-MICROSOFT-CDO-ALLDAYEVENT:FALSE
SUMMARY:Leadership Academy Meeting
DESCRIPTION:
X-ALT-DESC;FMTTYPE=text/html:
LOCATION:
UID:e.112.3734
SEQUENCE:3
DTSTAMP:20260423T070838Z
URL:http://www.business.pekinchamber.com/events/details/leadership-academy-meeting-11-17-2009-3734
END:VEVENT

END:VCALENDAR
