BEGIN:VCALENDAR
VERSION:2.0
PRODID:-//ChamberMaster//Event Calendar 2.0//EN
METHOD:PUBLISH
X-PUBLISHED-TTL:P3D
REFRESH-INTERVAL:P3D
CALSCALE:GREGORIAN
BEGIN:VEVENT
DTSTART:20090922T203000Z
DTEND:20090922T213000Z
X-MICROSOFT-CDO-ALLDAYEVENT:FALSE
SUMMARY:Leadership Academy Committee
DESCRIPTION:Planning committee to meet and plan the 2010 R. David Tebben Community Leadership Academy
X-ALT-DESC;FMTTYPE=text/html:<div>Planning committee to meet and plan the 2010 R. David Tebben Community Leadership Academy</div>
LOCATION:Pekin Area Chamber of Commerce402 Court Street
UID:e.112.3726
SEQUENCE:3
DTSTAMP:20260423T100142Z
URL:http://www.business.pekinchamber.com/events/details/leadership-academy-committee-09-22-2009-3726
END:VEVENT

END:VCALENDAR
