BEGIN:VCALENDAR
VERSION:2.0
PRODID:-//ChamberMaster//Event Calendar 2.0//EN
METHOD:PUBLISH
X-PUBLISHED-TTL:P3D
REFRESH-INTERVAL:P3D
CALSCALE:GREGORIAN
BEGIN:VEVENT
DTSTART:20110401T003000Z
DTEND:20110401T040000Z
X-MICROSOFT-CDO-ALLDAYEVENT:FALSE
SUMMARY:Karaoke at Paddy O'Flaherty's
DESCRIPTION:
X-ALT-DESC;FMTTYPE=text/html:
LOCATION:Paddy O'Flaherty's located inside the Best Western Ashland House 201 E. Ashland Ave Morton\, IL 61550
UID:e.112.5344
SEQUENCE:3
DTSTAMP:20260422T065529Z
URL:http://www.business.pekinchamber.com/events/details/karaoke-at-paddy-o-flaherty-s-03-31-2011-5344
END:VEVENT

END:VCALENDAR
