BEGIN:VCALENDAR
VERSION:2.0
PRODID:-//ChamberMaster//Event Calendar 2.0//EN
METHOD:PUBLISH
X-PUBLISHED-TTL:P3D
REFRESH-INTERVAL:P3D
CALSCALE:GREGORIAN
BEGIN:VEVENT
DTSTART:20101022T003000Z
DTEND:20101022T033000Z
X-MICROSOFT-CDO-ALLDAYEVENT:FALSE
SUMMARY:Karaoke at Best Western Ashland House & Conference Center
DESCRIPTION:Karaoke\n\n\n\nPrize Give-A-Ways!!!
X-ALT-DESC;FMTTYPE=text/html:Karaoke\n<br>\n<br>Prize Give-A-Ways!!!
LOCATION:Paddy O'Flaherty's
UID:e.112.4927
SEQUENCE:3
DTSTAMP:20260422T143020Z
URL:http://www.business.pekinchamber.com/events/details/karaoke-at-best-western-ashland-house-conference-center-10-21-2010-4927
END:VEVENT

END:VCALENDAR
