BEGIN:VCALENDAR
VERSION:2.0
PRODID:-//ChamberMaster//Event Calendar 2.0//EN
METHOD:PUBLISH
X-PUBLISHED-TTL:P3D
REFRESH-INTERVAL:P3D
CALSCALE:GREGORIAN
BEGIN:VEVENT
DTSTART:20080704T230000Z
DTEND:20080705T033000Z
X-MICROSOFT-CDO-ALLDAYEVENT:FALSE
SUMMARY:July 4th Honor America Fireworks
DESCRIPTION:One of the largest fireworks displays in the area is slated for this year's July 4th celebration at Pekin's Memorial Stadium. This will be the 61st year the Pekin Area Chamber of Commerce has sponsored the fireworks event\, which will be held Friday\, July 4th\, with a rain date of July 5th. The program will feature unique ground pieces viewable only from inside the stadium\, and more than 700 aerials. Gates open at 6:00 p.m. Before the fireworks begin\, those in the stadium will enjoy local bands and other entertainment. The fireworks display is scheduled to begin around 9:15 p.m.  Donations for entry into the stadium will be $5.00 for adults and $1.00 for children 6-12\, with children 5 and under free. No coolers will be allowed inside the stadium\, however\, blankets and lawn chairs are allowed on the field. Fun food and Coke products will be sold. Glow sticks and special viewing glasses will be available.
X-ALT-DESC;FMTTYPE=text/html:<div style="margin: 0in 0in 0pt"><span style="font-size: 10pt">One of the largest fireworks displays in the area is slated for this year&rsquo\;s July 4<sup>th</sup> celebration at Pekin&rsquo\;s Memorial Stadium.&nbsp\;This will be the 61st year the Pekin Area Chamber of Commerce has sponsored the fireworks event\, which will be held Friday\, July 4<sup>th</sup>\, with a rain date of July 5<sup>th</sup>.&nbsp\;The program will feature unique ground pieces viewable only from inside the stadium\, and more than 700 aerials.&nbsp\;Gates open at 6:00 p.m.&nbsp\;Before the fireworks begin\, those in the stadium will enjoy local bands and other entertainment.&nbsp\;The fireworks display is scheduled to begin around 9:15 p.m.&nbsp\;</span></div><div style="margin: 0in 0in 0pt">&nbsp\;</div><div style="margin: 0in 0in 0pt"><span style="font-size: 10pt">Donations for entry into the stadium will be $5.00 for adults and $1.00 for children 6-12\, with children 5 and under free.&nbsp\;No coolers will be allowed inside the stadium\, however\, blankets and lawn chairs are allowed on the field.&nbsp\;Fun food and Coke products will be sold.&nbsp\;Glow sticks and special viewing glasses will be available. </span></div>
LOCATION:Memorial StadiumPekin\, Illinois
UID:e.112.3210
SEQUENCE:3
DTSTAMP:20260424T063534Z
URL:http://www.business.pekinchamber.com/events/details/july-4th-honor-america-fireworks-07-04-2008-3210
END:VEVENT

END:VCALENDAR
