BEGIN:VCALENDAR
VERSION:2.0
PRODID:-//ChamberMaster//Event Calendar 2.0//EN
METHOD:PUBLISH
X-PUBLISHED-TTL:P3D
REFRESH-INTERVAL:P3D
CALSCALE:GREGORIAN
BEGIN:VEVENT
DTSTART:20090704T230000Z
DTEND:20090705T033000Z
X-MICROSOFT-CDO-ALLDAYEVENT:FALSE
SUMMARY:July 4th Honor America Celebration sponsored by Timbercreek Rehab & Health Care
DESCRIPTION:One of the largest fireworks displays in the area is slated for this year's July 4th Honor America Celebration at Pekin Memorial Stadium\, brought to you by Timbercreek Rehab & Health Care.  This will be the 62nd year the Pekin Area Chamber of Commerce has sponsored the fireworks event\, which will be held Saturday July 4th\, with a rain date of Sunday July 5th.  The program will feature unique ground pieces viewable only from inside the stadium\, and more than 700 ariels.  Gates open at 6:00pm  Before the fireworks begin\, those in the stadium will enjoy local bands and other entertainment. The fireworks display is scheduled to begin around 9:15 pm. Donations for entry into the stadium will be $5.00 for adults - $1.00 for children 6-12 and children 5 and under are free.  Current military personnel showing proper ID  will also be admitted free. No coolers will be allowed inside the stadium\, however blankets and lawn chairs are allowed on the field.  Food\, Pepsi\, and glow necklaces will be sold.  All proceeds will help offset the cost of the fireworks.
X-ALT-DESC;FMTTYPE=text/html:<div>One of the largest fireworks displays in the area is slated for this year&rsquo\;s July 4th Honor America Celebration&nbsp\;at Pekin Memorial Stadium\, brought to you by Timbercreek Rehab &amp\; Health Care.&nbsp\; This will be the 62nd year the Pekin Area Chamber of Commerce has sponsored the fireworks event\, which will be held Saturday July 4th\, with a rain date of Sunday July 5th.&nbsp\; The program will feature unique ground pieces viewable only from inside the stadium\, and more than 700 ariels.&nbsp\; Gates open at 6:00pm&nbsp\; Before the fireworks begin\, those in the stadium will enjoy local bands and other entertainment. The fireworks display is scheduled to begin around 9:15 pm.</div><div>&nbsp\;</div><div>Donations for entry into the stadium will be $5.00 for adults&nbsp\;- $1.00 for children 6-12 and children 5 and under are free.&nbsp\; Current military personnel showing proper ID&nbsp\; will also be admitted free. No coolers will be allowed inside the stadium\, however blankets and lawn chairs are allowed on the field.&nbsp\;&nbsp\;Food\, Pepsi\, and glow necklaces will be sold.&nbsp\; All proceeds will help offset the cost of the fireworks.</div>
LOCATION:Pekin High School Memorial StadiumOn corrner of Stadium Dr. and Court St. /Route 9
UID:e.112.3675
SEQUENCE:3
DTSTAMP:20260423T130840Z
URL:http://www.business.pekinchamber.com/events/details/july-4th-honor-america-celebration-sponsored-by-timbercreek-rehab-health-care-07-04-2009-3675
END:VEVENT

END:VCALENDAR
