BEGIN:VCALENDAR
VERSION:2.0
PRODID:-//ChamberMaster//Event Calendar 2.0//EN
METHOD:PUBLISH
X-PUBLISHED-TTL:P3D
REFRESH-INTERVAL:P3D
CALSCALE:GREGORIAN
BEGIN:VEVENT
DTSTART:20090225T200000Z
DTEND:20090225T213000Z
X-MICROSOFT-CDO-ALLDAYEVENT:FALSE
SUMMARY:ID Theft & Red Flag
DESCRIPTION:ID Theft & Red Flag We will have classes on how to identify and respond to I. D. Theft Wed. Feb. 25th at 2:00pm ( call 309-353-5527 to reserve a seat) The title for the class is: Red Flag\, ID Theft and ID Verifications
X-ALT-DESC;FMTTYPE=text/html:<div>ID Theft &amp\; Red Flag We will have classes on how to identify and respond to I. D. Theft Wed. Feb. 25th at 2:00pm ( call 309-353-5527 to reserve a seat) The title for the class is: Red Flag\, ID Theft and ID Verifications</div>
LOCATION:11 N 6th Street\, Suite A\, Pekin IL 61554
UID:e.112.3658
SEQUENCE:3
DTSTAMP:20260423T202955Z
URL:http://www.business.pekinchamber.com/events/details/id-theft-red-flag-02-25-2009-3658
END:VEVENT

END:VCALENDAR
