BEGIN:VCALENDAR
VERSION:2.0
PRODID:-//ChamberMaster//Event Calendar 2.0//EN
METHOD:PUBLISH
X-PUBLISHED-TTL:P3D
REFRESH-INTERVAL:P3D
CALSCALE:GREGORIAN
BEGIN:VEVENT
DTSTART:20070704T230000Z
DTEND:20070705T033000Z
X-MICROSOFT-CDO-ALLDAYEVENT:FALSE
SUMMARY:Honor America July 4th Fireworks
DESCRIPTION:One of the largest fireworks displays in the area is slated for this year's July 4th celebration at Memorial Stadium. This will be the 60th year the Pekin Area Chamber of Commerce has sponsored the fireworks event\, which will be held Wednesday July 4th\, with a rain date of July 5th. The program will feature unique ground pieces viewable only from inside the stadium\, and more than 700 aerials. Gates open at 6:00 p.m. Before the fireworks begin\, those in the stadium will enjoy local bands and other entertainment. The fireworks display is scheduled to begin at dusk (about 9:15p.m.).
X-ALT-DESC;FMTTYPE=text/html:<font size="3">One of the largest fireworks displays in the area is slated for this year&rsquo\;s July 4th celebration at Memorial Stadium. This will be the 60th year the Pekin Area Chamber of Commerce has sponsored the fireworks event\, which will be held Wednesday July 4th\, with a rain date of July 5th. The program will feature unique ground pieces viewable only from inside the stadium\, and more than 700 aerials. Gates open at 6:00 p.m. Before the fireworks begin\, those in the stadium will enjoy local bands and other entertainment. The fireworks display is scheduled to begin at dusk (about 9:15p.m.).</font>
LOCATION:Pekin Memorial Stadium\, adjacent to Pekin Community High School and Mineral Springs Park on Route 9 (Court Street) in Pekin
UID:e.112.59
SEQUENCE:3
DTSTAMP:20260425T033350Z
URL:http://www.business.pekinchamber.com/events/details/honor-america-july-4th-fireworks-07-04-2007-59
END:VEVENT

END:VCALENDAR
