BEGIN:VCALENDAR
VERSION:2.0
PRODID:-//ChamberMaster//Event Calendar 2.0//EN
METHOD:PUBLISH
X-PUBLISHED-TTL:P3D
REFRESH-INTERVAL:P3D
CALSCALE:GREGORIAN
BEGIN:VEVENT
DTSTART;VALUE=DATE:20110704
DTEND;VALUE=DATE:20110705
TRANSP:TRANSPARENT
X-MICROSOFT-CDO-ALLDAYEVENT:TRUE
SUMMARY:Honor America Celebration brought to you by Timbercreek Rehab & Health Care
DESCRIPTION:Join us for our 64th edition of the July 4th Honor America Fireworks Celebration brought to you by Timbercreek Rehab and Health Care.  As always\, the event takes place on July 4th in Pekin Memorial Stadium.  The gates open at 6:00pm and Fireworks begin at dusk.  No coolers will be allowed inside the stadium\, however\, blankets (not tarps) and lawn chairs are allowed on the field.  Hot dogs\, cotton candy\, nachos\, popcorn and Pepsi products will be sold.  Glow sticks will also be available.  Before the fireworks begin\, those in the stadium will enjoy music by Motley Sue.
X-ALT-DESC;FMTTYPE=text/html:Join us for our 64th edition of the July 4th Honor America Fireworks Celebration brought to you by Timbercreek Rehab and Health Care.&nbsp\; As always\, the event takes place on July 4th in Pekin Memorial Stadium.&nbsp\; The gates open at 6:00pm and Fireworks begin at dusk.&nbsp\; No coolers will be allowed inside the stadium\, however\, blankets (not tarps) and lawn chairs are&nbsp\;allowed on the field.&nbsp\; Hot dogs\, cotton candy\, nachos\, popcorn and&nbsp\;Pepsi products will be sold.&nbsp\; Glow sticks will also be available.&nbsp\; Before the fireworks begin\, those in the stadium will enjoy music by <em>Motley Sue</em>.&nbsp\; 
LOCATION:Pekin Memorial Stadium
UID:e.112.5140
SEQUENCE:3
DTSTAMP:20260422T002726Z
URL:http://www.business.pekinchamber.com/events/details/honor-america-celebration-brought-to-you-by-timbercreek-rehab-health-care-07-04-2011-5140
END:VEVENT

END:VCALENDAR
