BEGIN:VCALENDAR
VERSION:2.0
PRODID:-//ChamberMaster//Event Calendar 2.0//EN
METHOD:PUBLISH
X-PUBLISHED-TTL:P3D
REFRESH-INTERVAL:P3D
CALSCALE:GREGORIAN
BEGIN:VEVENT
DTSTART:20100308T230000Z
DTEND:20100309T010000Z
X-MICROSOFT-CDO-ALLDAYEVENT:FALSE
SUMMARY:Heart of Illinois Legislative Reception
DESCRIPTION:Join us Monday\, March 8th\, from 5:00 - 7:00 pm at the Hotel Pere Marquette.  The special guest speaker will be Congressman Aaron Schock.  Contact the Pekin or Peoria Chamber of Commerce for a registration form\, which is due by March 1st.
X-ALT-DESC;FMTTYPE=text/html:<div>Join us Monday\, March 8th\, from 5:00 - 7:00 pm at the Hotel Pere Marquette.&nbsp\; The special guest speaker will be Congressman Aaron Schock.&nbsp\; Contact the Pekin or Peoria Chamber of Commerce for a registration form\, which is due by March 1st.</div>
LOCATION:
UID:e.112.4865
SEQUENCE:3
DTSTAMP:20260423T011642Z
URL:http://www.business.pekinchamber.com/events/details/heart-of-illinois-legislative-reception-03-08-2010-4865
END:VEVENT

END:VCALENDAR
