BEGIN:VCALENDAR
VERSION:2.0
PRODID:-//ChamberMaster//Event Calendar 2.0//EN
METHOD:PUBLISH
X-PUBLISHED-TTL:P3D
REFRESH-INTERVAL:P3D
CALSCALE:GREGORIAN
BEGIN:VEVENT
DTSTART;VALUE=DATE:20090223
DTEND;VALUE=DATE:20090224
TRANSP:TRANSPARENT
X-MICROSOFT-CDO-ALLDAYEVENT:TRUE
SUMMARY:Heart of Illinois Legislative Reception
DESCRIPTION:The region's chambers of commerce (Canton\, East Peoria\, Limestone\, Morton\, Pekin\, Peoria\, Washington) have joined together for the 23rd annual Heart of Illinois Legislative Reception. This is a great opportunity for you to visit with your legislators.  All of the area legislators (state and federal) have been invited.  Appetizers will be provided and a cash bar will be available.  Reservation deadline is February 16\, 2009
X-ALT-DESC;FMTTYPE=text/html:<div>The region&rsquo\;s chambers of commerce (Canton\, East Peoria\, Limestone\, Morton\, Pekin\, Peoria\, Washington) have joined together for the 23rd annual Heart of Illinois Legislative Reception. This is a great opportunity for you to visit with your legislators.&nbsp\; All of the area legislators (state and federal) have been invited.&nbsp\; Appetizers will be provided and a cash bar will be available.&nbsp\; Reservation deadline is February 16\, 2009</div>
LOCATION:Par-A-Dice HotelEast Peoria\, IL
UID:e.112.3660
SEQUENCE:3
DTSTAMP:20260423T203218Z
URL:http://www.business.pekinchamber.com/events/details/heart-of-illinois-legislative-reception-02-23-2009-3660
END:VEVENT

END:VCALENDAR
