BEGIN:VCALENDAR
VERSION:2.0
PRODID:-//ChamberMaster//Event Calendar 2.0//EN
METHOD:PUBLISH
X-PUBLISHED-TTL:P3D
REFRESH-INTERVAL:P3D
CALSCALE:GREGORIAN
BEGIN:VEVENT
DTSTART:20100819T163000Z
DTEND:20100819T180000Z
X-MICROSOFT-CDO-ALLDAYEVENT:FALSE
SUMMARY:Health Care Reform Chamber Luncheon
DESCRIPTION:$20.00 for members\n\n	$30.00 for non-members
X-ALT-DESC;FMTTYPE=text/html:<div>\n	$20.00 for members</div>\n<div>\n	$30.00 for non-members</div>\n
LOCATION:Avanti's Dome 3420 Veteran's Drive Pekin\, IL 61554
UID:e.112.4914
SEQUENCE:3
DTSTAMP:20260422T174303Z
URL:http://www.business.pekinchamber.com/events/details/health-care-reform-chamber-luncheon-08-19-2010-4914
END:VEVENT

END:VCALENDAR
