BEGIN:VCALENDAR
VERSION:2.0
PRODID:-//ChamberMaster//Event Calendar 2.0//EN
METHOD:PUBLISH
X-PUBLISHED-TTL:P3D
REFRESH-INTERVAL:P3D
CALSCALE:GREGORIAN
BEGIN:VEVENT
DTSTART;VALUE=DATE:20100828
DTEND;VALUE=DATE:20100829
TRANSP:TRANSPARENT
X-MICROSOFT-CDO-ALLDAYEVENT:TRUE
SUMMARY:Hamm's Breading Mix & AAD Welding\, Inc Catfish Tournament
DESCRIPTION:Catfish Tournament at Pekin Boat Club 7:00AM - 2:00PM with FishFry after.\n\nThis event is hosted by \n\nHoss's Hawg Bait\n\nLarry's Fishing Hole\n\nPresley's Outdoors\n\nFor more detail and entry form go to www.larrysfishinghole.com
X-ALT-DESC;FMTTYPE=text/html:Catfish Tournament at Pekin Boat Club 7:00AM - 2:00PM with FishFry after.\n<br>This event is hosted by \n<br>Hoss's Hawg Bait\n<br>Larry's Fishing Hole\n<br>Presley's Outdoors\n<br>For more detail and entry form go to www.larrysfishinghole.com
LOCATION:Pekin Boat Club
UID:e.112.4913
SEQUENCE:3
DTSTAMP:20260422T174226Z
URL:http://www.business.pekinchamber.com/events/details/hamm-s-breading-mix-aad-welding-inc-catfish-tournament-08-28-2010-4913
END:VEVENT

END:VCALENDAR
