BEGIN:VCALENDAR
VERSION:2.0
PRODID:-//ChamberMaster//Event Calendar 2.0//EN
METHOD:PUBLISH
X-PUBLISHED-TTL:P3D
REFRESH-INTERVAL:P3D
CALSCALE:GREGORIAN
BEGIN:VEVENT
DTSTART:20111022T150000Z
DTEND:20111022T190000Z
X-MICROSOFT-CDO-ALLDAYEVENT:FALSE
SUMMARY:Habitat Scarecrow Saturday
DESCRIPTION:A family fun event with a lot of free activities for children featuring a scarecrow scavenger hunt\, silent auction\, and playhouse raffle.  Specials in Habitat's Restore.
X-ALT-DESC;FMTTYPE=text/html:A family fun event with a lot of free activities for children featuring a scarecrow scavenger hunt\, silent auction\, and playhouse raffle.&nbsp\; Specials in Habitat&#39\;s Restore.
LOCATION:804 W Main
UID:e.112.5373
SEQUENCE:3
DTSTAMP:20260421T195234Z
URL:http://www.business.pekinchamber.com/events/details/habitat-scarecrow-saturday-10-22-2011-5373
END:VEVENT

END:VCALENDAR
