BEGIN:VCALENDAR
VERSION:2.0
PRODID:-//ChamberMaster//Event Calendar 2.0//EN
METHOD:PUBLISH
X-PUBLISHED-TTL:P3D
REFRESH-INTERVAL:P3D
CALSCALE:GREGORIAN
BEGIN:VEVENT
DTSTART:20100611T160000Z
DTEND:20100611T180000Z
X-MICROSOFT-CDO-ALLDAYEVENT:FALSE
SUMMARY:''Get Busy Living'' Customer Appreciation Day
DESCRIPTION:Please add to your calendar of events a "Get Busy Living" Customer Appreciation Day to be held from 11-1 on June 11at the Champion Fitness Physical Therapy clinic in Pekin located at 2105 Court St.. Come meet the staff\, see what features Champion has to offer\, and enjoy a free lunch with brats\, hot dogs\, treats\, drinks and plenty of giveaways.
X-ALT-DESC;FMTTYPE=text/html:Please add to your calendar of events a "Get Busy Living" Customer Appreciation Day to be held from 11-1 on June 11at the Champion Fitness Physical Therapy clinic in Pekin located at 2105 Court St.. Come meet the staff\, see what features Champion has to offer\, and enjoy a free lunch with brats\, hot dogs\, treats\, drinks and plenty of giveaways.\n<br>
LOCATION:
UID:e.112.4900
SEQUENCE:3
DTSTAMP:20260422T203718Z
URL:http://www.business.pekinchamber.com/events/details/get-busy-living-customer-appreciation-day-06-11-2010-4900
END:VEVENT

END:VCALENDAR
