BEGIN:VCALENDAR
VERSION:2.0
PRODID:-//ChamberMaster//Event Calendar 2.0//EN
METHOD:PUBLISH
X-PUBLISHED-TTL:P3D
REFRESH-INTERVAL:P3D
CALSCALE:GREGORIAN
BEGIN:VEVENT
DTSTART:20070907T220000Z
DTEND:20070908T030000Z
X-MICROSOFT-CDO-ALLDAYEVENT:FALSE
SUMMARY:Friday Night Family Fest
DESCRIPTION:More information to be announced.
X-ALT-DESC;FMTTYPE=text/html:More information to be announced.
LOCATION:Streets surrounding the Courthouse.
UID:e.112.62
SEQUENCE:3
DTSTAMP:20260425T002051Z
URL:http://www.business.pekinchamber.com/events/details/friday-night-family-fest-09-07-2007-62
END:VEVENT

END:VCALENDAR
