BEGIN:VCALENDAR
VERSION:2.0
PRODID:-//ChamberMaster//Event Calendar 2.0//EN
METHOD:PUBLISH
X-PUBLISHED-TTL:P3D
REFRESH-INTERVAL:P3D
CALSCALE:GREGORIAN
BEGIN:VEVENT
DTSTART:20100326T140000Z
DTEND:20100326T160000Z
X-MICROSOFT-CDO-ALLDAYEVENT:FALSE
SUMMARY:Free Health Screenings at Great Clips for Hair- Methodist Wellmobile
DESCRIPTION:Methodist Wellmobile Cholesterol Screening\n\nDescription:\n\nThis screening requires a small blood sample from the finger.  It measures total cholesterol\, high density lipoprotein (HDL)\, low density lipoprotein (LDL)\, triglycerides levels\, as well as\, the ratio of total cholesterol to HDLs and blood glucose.  Blood pressure and spirometry are also included with this screening. \n\n\n\nRequirements:\n\nAn 8-12 hour fast is required for cholesterol and blood glucose screening. No appointment necessary. \n\n\n\nCost:\n\nFree \n\n\n\nLocation:\n\nGreat Clips 3412 Veteran's Drive\, Pekin
X-ALT-DESC;FMTTYPE=text/html:Methodist Wellmobile Cholesterol Screening\n<br>Description:\n<br>This screening requires a small blood sample from the finger.  It measures total cholesterol\, high density lipoprotein (HDL)\, low density lipoprotein (LDL)\, triglycerides levels\, as well as\, the ratio of total cholesterol to HDLs and blood glucose.  Blood pressure and spirometry are also included with this screening. \n<br>\n<br>Requirements:\n<br>An 8-12 hour fast is required for cholesterol and blood glucose screening. No appointment necessary. \n<br>\n<br>Cost:\n<br>Free \n<br>\n<br>Location:\n<br>Great Clips 3412 Veteran's Drive\, Pekin \n<br>\n<br>
LOCATION:Great Clips (By Wal-Mart\, next to Radio Shack)
UID:e.112.4860
SEQUENCE:3
DTSTAMP:20260423T011837Z
URL:http://www.business.pekinchamber.com/events/details/free-health-screenings-at-great-clips-for-hair-methodist-wellmobile-03-26-2010-4860
END:VEVENT

END:VCALENDAR
