BEGIN:VCALENDAR
VERSION:2.0
PRODID:-//ChamberMaster//Event Calendar 2.0//EN
METHOD:PUBLISH
X-PUBLISHED-TTL:P3D
REFRESH-INTERVAL:P3D
CALSCALE:GREGORIAN
BEGIN:VEVENT
DTSTART:20110105T220000Z
DTEND:20110105T233000Z
X-MICROSOFT-CDO-ALLDAYEVENT:FALSE
SUMMARY:Executive Board Meeting
DESCRIPTION:Executive Board Meeting
X-ALT-DESC;FMTTYPE=text/html:<div>Executive Board Meeting</div>
LOCATION:Chamber Offices
UID:e.112.3968
SEQUENCE:3
DTSTAMP:20260422T095426Z
URL:http://www.business.pekinchamber.com/events/details/executive-board-meeting-01-05-2011-3968
END:VEVENT

END:VCALENDAR
