BEGIN:VCALENDAR
VERSION:2.0
PRODID:-//ChamberMaster//Event Calendar 2.0//EN
METHOD:PUBLISH
X-PUBLISHED-TTL:P3D
REFRESH-INTERVAL:P3D
CALSCALE:GREGORIAN
BEGIN:VEVENT
DTSTART:20110920T233000Z
DTEND:20110921T013000Z
X-MICROSOFT-CDO-ALLDAYEVENT:FALSE
SUMMARY:Estate Planning Roundtable
DESCRIPTION:Savant Capital has assembled a panel that includes some of the region's top estate planning experts.  The panelists will be providing insight regarding the new estate tax laws\, along with a Q&A session.\n\n\n\nThe panelists are\; John "Jack" Brady\, Ketra A. Mytich and Valerie Moehle Umholtz
X-ALT-DESC;FMTTYPE=text/html:Savant Capital has assembled a panel that includes some of the region&#39\;s top estate planning experts.&nbsp\; The panelists will be providing insight regarding the new estate tax laws\, along with a Q&amp\;A session.<br />\n<br />\nThe panelists are\; John &quot\;Jack&quot\; Brady\, Ketra A. Mytich and Valerie Moehle Umholtz
LOCATION:Hult Center for Health Education 5215 N. Knoxville Ave.\, Peoria\, IL
UID:e.112.5378
SEQUENCE:3
DTSTAMP:20260421T213005Z
URL:http://www.business.pekinchamber.com/events/details/estate-planning-roundtable-09-20-2011-5378
END:VEVENT

END:VCALENDAR
