BEGIN:VCALENDAR
VERSION:2.0
PRODID:-//ChamberMaster//Event Calendar 2.0//EN
METHOD:PUBLISH
X-PUBLISHED-TTL:P3D
REFRESH-INTERVAL:P3D
CALSCALE:GREGORIAN
BEGIN:VEVENT
DTSTART:20100624T223000Z
DTEND:20100625T013000Z
X-MICROSOFT-CDO-ALLDAYEVENT:FALSE
SUMMARY:Dress for Success Peoria - 2nd Annual Girls Night Out Extravaganza
DESCRIPTION:This year's theme is "Walking the Red Carpet of Success" - a fun-filled celebration of women and our winning achievements. You will find style shows\, demonstrations\, raffles\, products to purchase\, services geared towards women\, and enjoy great food with a cash bar available!\n\n\n\nFunds raised will support the mission of Dress for Success Peoria - to promote the economic independence of disadvantaged women by providing professional attire\, a network of support and the career development tools to help women thrive in work and in life.
X-ALT-DESC;FMTTYPE=text/html:This year's theme is "Walking the Red Carpet of Success" - a fun-filled celebration of women and our winning achievements. You will find style shows\, demonstrations\, raffles\, products to purchase\, services geared towards women\, and enjoy great food with a cash bar available!\n<br>\n<br>Funds raised will support the mission of Dress for Success Peoria - to promote the economic independence of disadvantaged women by providing professional attire\, a network of support and the career development tools to help women thrive in work and in life.\n<br>
LOCATION:Packard Plaza 211 NE Adams Street Peoria\, IL 61602
UID:e.112.4905
SEQUENCE:3
DTSTAMP:20260422T203900Z
URL:http://www.business.pekinchamber.com/events/details/dress-for-success-peoria-2nd-annual-girls-night-out-extravaganza-06-24-2010-4905
END:VEVENT

END:VCALENDAR
