BEGIN:VCALENDAR
VERSION:2.0
PRODID:-//ChamberMaster//Event Calendar 2.0//EN
METHOD:PUBLISH
X-PUBLISHED-TTL:P3D
REFRESH-INTERVAL:P3D
CALSCALE:GREGORIAN
BEGIN:VEVENT
DTSTART:20080705T130000Z
DTEND:20080705T170000Z
X-MICROSOFT-CDO-ALLDAYEVENT:FALSE
SUMMARY:Downtown Farmer's Market
DESCRIPTION:Featuring locally grown fresh produce\, delicious baked goods\, flowers and herbs\, crafts\, organic items and local artists.  Free\, live entertainment on the Courthouse lawn.
X-ALT-DESC;FMTTYPE=text/html:<div>Featuring locally grown fresh produce\, delicious baked goods\, flowers and herbs\, crafts\, organic items and local artists.&nbsp\; Free\, live entertainment on the Courthouse lawn.</div>
LOCATION:Capitol Street opposite the Courthouse.
UID:e.112.3189
SEQUENCE:3
DTSTAMP:20260424T063605Z
URL:http://www.business.pekinchamber.com/events/details/downtown-farmer-s-market-07-05-2008-3189
END:VEVENT

END:VCALENDAR
