BEGIN:VCALENDAR
VERSION:2.0
PRODID:-//ChamberMaster//Event Calendar 2.0//EN
METHOD:PUBLISH
X-PUBLISHED-TTL:P3D
REFRESH-INTERVAL:P3D
CALSCALE:GREGORIAN
BEGIN:VEVENT
DTSTART;VALUE=DATE:20260626
DTEND;VALUE=DATE:20260628
TRANSP:TRANSPARENT
X-MICROSOFT-CDO-ALLDAYEVENT:TRUE
SUMMARY:Discover Pekin: Dragon's Fire Balloon Fest
DESCRIPTION:Full Event Details Coming Soon!!
X-ALT-DESC;FMTTYPE=text/html:Full Event Details Coming Soon!!&nbsp\;
LOCATION:Avanti's Event Center Outdoor Fields
UID:e.112.19447
SEQUENCE:3
DTSTAMP:20260423T030555Z
URL:http://www.business.pekinchamber.com/events/details/discover-pekin-dragon-s-fire-balloon-fest-19447
END:VEVENT

END:VCALENDAR
