BEGIN:VCALENDAR
VERSION:2.0
PRODID:-//ChamberMaster//Event Calendar 2.0//EN
METHOD:PUBLISH
X-PUBLISHED-TTL:P3D
REFRESH-INTERVAL:P3D
CALSCALE:GREGORIAN
BEGIN:VEVENT
DTSTART:20100513T220000Z
DTEND:20100514T000000Z
X-MICROSOFT-CDO-ALLDAYEVENT:FALSE
SUMMARY:Diamonds are a Girl's Best Friend
DESCRIPTION:Diamonds is an evening to celebrate Girl Scouting in Pekin\, Illinois and to honor Paula Davis for being a role model for young women\, being a leader in our community\, and a friend to everyone. The event will also include hors d'ouvres prepared by CJ's Cafe\, local entertainment\, a silent auction\, and a drawing for a piece of diamond jewelry handcrafted by Vince Udry.
X-ALT-DESC;FMTTYPE=text/html:<div>Diamonds is an evening to celebrate Girl Scouting in Pekin\, Illinois and to honor Paula Davis for being a role model for young women\, being a leader in our community\, and a friend to everyone. The event will also include hors d'ouvres prepared by CJ's Cafe\, local entertainment\, a silent auction\, and a drawing for a piece of diamond jewelry handcrafted by Vince Udry.</div>
LOCATION:Udry Jewelers\, 1100 Derby Street
UID:e.112.4861
SEQUENCE:3
DTSTAMP:20260422T221746Z
URL:http://www.business.pekinchamber.com/events/details/diamonds-are-a-girl-s-best-friend-05-13-2010-4861
END:VEVENT

END:VCALENDAR
